BEGIN:VCALENDAR
VERSION:2.0
PRODID:-//Gemeinde Bodenkirchen - ECPv6.15.20//NONSGML v1.0//EN
CALSCALE:GREGORIAN
METHOD:PUBLISH
X-ORIGINAL-URL:https://www.bodenkirchen.de
X-WR-CALDESC:Veranstaltungen für Gemeinde Bodenkirchen
REFRESH-INTERVAL;VALUE=DURATION:PT1H
X-Robots-Tag:noindex
X-PUBLISHED-TTL:PT1H
BEGIN:VTIMEZONE
TZID:Europe/Berlin
BEGIN:DAYLIGHT
TZOFFSETFROM:+0100
TZOFFSETTO:+0200
TZNAME:CEST
DTSTART:20250330T010000
END:DAYLIGHT
BEGIN:STANDARD
TZOFFSETFROM:+0200
TZOFFSETTO:+0100
TZNAME:CET
DTSTART:20251026T010000
END:STANDARD
BEGIN:DAYLIGHT
TZOFFSETFROM:+0100
TZOFFSETTO:+0200
TZNAME:CEST
DTSTART:20260329T010000
END:DAYLIGHT
BEGIN:STANDARD
TZOFFSETFROM:+0200
TZOFFSETTO:+0100
TZNAME:CET
DTSTART:20261025T010000
END:STANDARD
BEGIN:DAYLIGHT
TZOFFSETFROM:+0100
TZOFFSETTO:+0200
TZNAME:CEST
DTSTART:20270328T010000
END:DAYLIGHT
BEGIN:STANDARD
TZOFFSETFROM:+0200
TZOFFSETTO:+0100
TZNAME:CET
DTSTART:20271031T010000
END:STANDARD
END:VTIMEZONE
BEGIN:VEVENT
DTSTART;TZID=Europe/Berlin:20260501T080000
DTEND;TZID=Europe/Berlin:20260503T170000
DTSTAMP:20260423T105713
CREATED:20260324T094518Z
LAST-MODIFIED:20260324T094518Z
UID:7545-1777622400-1777827600@www.bodenkirchen.de
SUMMARY:Kunstausstellung Rolf Liese
DESCRIPTION:Bürgerstadl
URL:https://www.bodenkirchen.de/termin/kunstausstellung-rolf-liese/
END:VEVENT
BEGIN:VEVENT
DTSTART;TZID=Europe/Berlin:20260501T110000
DTEND;TZID=Europe/Berlin:20260501T110000
DTSTAMP:20260423T105713
CREATED:20250930T071137Z
LAST-MODIFIED:20250930T071143Z
UID:6818-1777633200-1777633200@www.bodenkirchen.de
SUMMARY:Maibaumaufstellen FFW Bodenkirchen
DESCRIPTION:
URL:https://www.bodenkirchen.de/termin/maibaumaufstellen-ffw-bodenkirchen-2/
END:VEVENT
BEGIN:VEVENT
DTSTART;TZID=Europe/Berlin:20260501T110000
DTEND;TZID=Europe/Berlin:20260501T110000
DTSTAMP:20260423T105713
CREATED:20260217T091511Z
LAST-MODIFIED:20260217T091511Z
UID:7342-1777633200-1777633200@www.bodenkirchen.de
SUMMARY:Maifeier KLJB Aich
DESCRIPTION:
URL:https://www.bodenkirchen.de/termin/maifeier-kljb-aich-3/
END:VEVENT
BEGIN:VEVENT
DTSTART;TZID=Europe/Berlin:20260501T110000
DTEND;TZID=Europe/Berlin:20260501T110000
DTSTAMP:20260423T105713
CREATED:20260303T085125Z
LAST-MODIFIED:20260303T085125Z
UID:7411-1777633200-1777633200@www.bodenkirchen.de
SUMMARY:Maifeier mit Maibaumaufstellen Reibschützen Bonbruck
DESCRIPTION:
URL:https://www.bodenkirchen.de/termin/maifeier-mit-maibaumaufstellen-reibschuetzen-bonbruck-3/
END:VEVENT
BEGIN:VEVENT
DTSTART;VALUE=DATE:20260502
DTEND;VALUE=DATE:20260503
DTSTAMP:20260423T105713
CREATED:20250930T071226Z
LAST-MODIFIED:20250930T071236Z
UID:6820-1777680000-1777766399@www.bodenkirchen.de
SUMMARY:Ausflug Stopselclub Bodenkirchen
DESCRIPTION:
URL:https://www.bodenkirchen.de/termin/ausflug-stopselclub-bodenkirchen-2/
END:VEVENT
BEGIN:VEVENT
DTSTART;TZID=Europe/Berlin:20260508T000000
DTEND;TZID=Europe/Berlin:20260508T000000
DTSTAMP:20260423T105713
CREATED:20260324T094412Z
LAST-MODIFIED:20260324T095833Z
UID:7542-1778198400-1778198400@www.bodenkirchen.de
SUMMARY:Jahreshauptversammlung Binataler Ski Club
DESCRIPTION:
URL:https://www.bodenkirchen.de/termin/jahreshauptversammlung-binataler-ski-club/
END:VEVENT
BEGIN:VEVENT
DTSTART;TZID=Europe/Berlin:20260508T000000
DTEND;TZID=Europe/Berlin:20260508T000000
DTSTAMP:20260423T105713
CREATED:20260324T095733Z
LAST-MODIFIED:20260324T095733Z
UID:7547-1778198400-1778198400@www.bodenkirchen.de
SUMMARY:Neuaufnahme KLJB Bonbruck
DESCRIPTION:
URL:https://www.bodenkirchen.de/termin/neuaufnahme-kljb-bonbruck/
END:VEVENT
BEGIN:VEVENT
DTSTART;TZID=Europe/Berlin:20260514T090000
DTEND;TZID=Europe/Berlin:20260514T090000
DTSTAMP:20260423T105713
CREATED:20260217T091659Z
LAST-MODIFIED:20260217T091659Z
UID:7344-1778749200-1778749200@www.bodenkirchen.de
SUMMARY:Vatertagsturnier OFV Aich\, Abt. Stockschützen
DESCRIPTION:
URL:https://www.bodenkirchen.de/termin/vatertagsturnier-ofv-aich-abt-stockschuetzen/
END:VEVENT
BEGIN:VEVENT
DTSTART;TZID=Europe/Berlin:20260514T110000
DTEND;TZID=Europe/Berlin:20260514T110000
DTSTAMP:20260423T105713
CREATED:20260217T093244Z
LAST-MODIFIED:20260217T093244Z
UID:7364-1778756400-1778756400@www.bodenkirchen.de
SUMMARY:Vatertagsfest SC Bodenkirchen
DESCRIPTION:
URL:https://www.bodenkirchen.de/termin/vatertagsfest-sc-bodenkirchen/
END:VEVENT
BEGIN:VEVENT
DTSTART;TZID=Europe/Berlin:20260517T000000
DTEND;TZID=Europe/Berlin:20260517T000000
DTSTAMP:20260423T105713
CREATED:20260324T095934Z
LAST-MODIFIED:20260324T095934Z
UID:7549-1778976000-1778976000@www.bodenkirchen.de
SUMMARY:Erstkommunion Pfarrei Bonbruck
DESCRIPTION:
URL:https://www.bodenkirchen.de/termin/erstkommunion-pfarrei-bonbruck/
END:VEVENT
BEGIN:VEVENT
DTSTART;TZID=Europe/Berlin:20260517T150000
DTEND;TZID=Europe/Berlin:20260517T150000
DTSTAMP:20260423T105713
CREATED:20260217T091817Z
LAST-MODIFIED:20260217T091817Z
UID:7346-1779030000-1779030000@www.bodenkirchen.de
SUMMARY:Dorfmeisterschaft Bahnbergschützen Hilling
DESCRIPTION:
URL:https://www.bodenkirchen.de/termin/dorfmeisterschaft-bahnbergschuetzen-hilling/
END:VEVENT
END:VCALENDAR