BEGIN:VCALENDAR
VERSION:2.0
PRODID:-//Gemeinde Bodenkirchen - ECPv6.15.20//NONSGML v1.0//EN
CALSCALE:GREGORIAN
METHOD:PUBLISH
X-WR-CALNAME:Gemeinde Bodenkirchen
X-ORIGINAL-URL:https://www.bodenkirchen.de
X-WR-CALDESC:Veranstaltungen für Gemeinde Bodenkirchen
REFRESH-INTERVAL;VALUE=DURATION:PT1H
X-Robots-Tag:noindex
X-PUBLISHED-TTL:PT1H
BEGIN:VTIMEZONE
TZID:Europe/Berlin
BEGIN:DAYLIGHT
TZOFFSETFROM:+0100
TZOFFSETTO:+0200
TZNAME:CEST
DTSTART:20250330T010000
END:DAYLIGHT
BEGIN:STANDARD
TZOFFSETFROM:+0200
TZOFFSETTO:+0100
TZNAME:CET
DTSTART:20251026T010000
END:STANDARD
BEGIN:DAYLIGHT
TZOFFSETFROM:+0100
TZOFFSETTO:+0200
TZNAME:CEST
DTSTART:20260329T010000
END:DAYLIGHT
BEGIN:STANDARD
TZOFFSETFROM:+0200
TZOFFSETTO:+0100
TZNAME:CET
DTSTART:20261025T010000
END:STANDARD
BEGIN:DAYLIGHT
TZOFFSETFROM:+0100
TZOFFSETTO:+0200
TZNAME:CEST
DTSTART:20270328T010000
END:DAYLIGHT
BEGIN:STANDARD
TZOFFSETFROM:+0200
TZOFFSETTO:+0100
TZNAME:CET
DTSTART:20271031T010000
END:STANDARD
END:VTIMEZONE
BEGIN:VEVENT
DTSTART;TZID=Europe/Berlin:20260514T090000
DTEND;TZID=Europe/Berlin:20260514T090000
DTSTAMP:20260425T135949
CREATED:20260217T091659Z
LAST-MODIFIED:20260217T091659Z
UID:7344-1778749200-1778749200@www.bodenkirchen.de
SUMMARY:Vatertagsturnier OFV Aich\, Abt. Stockschützen
DESCRIPTION:
URL:https://www.bodenkirchen.de/termin/vatertagsturnier-ofv-aich-abt-stockschuetzen/
END:VEVENT
BEGIN:VEVENT
DTSTART;TZID=Europe/Berlin:20260514T110000
DTEND;TZID=Europe/Berlin:20260514T110000
DTSTAMP:20260425T135949
CREATED:20260217T093244Z
LAST-MODIFIED:20260217T093244Z
UID:7364-1778756400-1778756400@www.bodenkirchen.de
SUMMARY:Vatertagsfest SC Bodenkirchen
DESCRIPTION:
URL:https://www.bodenkirchen.de/termin/vatertagsfest-sc-bodenkirchen/
END:VEVENT
BEGIN:VEVENT
DTSTART;TZID=Europe/Berlin:20260517T000000
DTEND;TZID=Europe/Berlin:20260517T000000
DTSTAMP:20260425T135949
CREATED:20260324T095934Z
LAST-MODIFIED:20260324T095934Z
UID:7549-1778976000-1778976000@www.bodenkirchen.de
SUMMARY:Erstkommunion Pfarrei Bonbruck
DESCRIPTION:
URL:https://www.bodenkirchen.de/termin/erstkommunion-pfarrei-bonbruck/
END:VEVENT
BEGIN:VEVENT
DTSTART;TZID=Europe/Berlin:20260517T150000
DTEND;TZID=Europe/Berlin:20260517T150000
DTSTAMP:20260425T135949
CREATED:20260217T091817Z
LAST-MODIFIED:20260217T091817Z
UID:7346-1779030000-1779030000@www.bodenkirchen.de
SUMMARY:Dorfmeisterschaft Bahnbergschützen Hilling
DESCRIPTION:
URL:https://www.bodenkirchen.de/termin/dorfmeisterschaft-bahnbergschuetzen-hilling/
END:VEVENT
BEGIN:VEVENT
DTSTART;TZID=Europe/Berlin:20260604T130000
DTEND;TZID=Europe/Berlin:20260604T130000
DTSTAMP:20260425T135949
CREATED:20260407T092003Z
LAST-MODIFIED:20260407T092003Z
UID:7594-1780578000-1780578000@www.bodenkirchen.de
SUMMARY:Radltour Bahnbergschützen Hilling
DESCRIPTION:
URL:https://www.bodenkirchen.de/termin/radltour-bahnbergschuetzen-hilling-2/
END:VEVENT
BEGIN:VEVENT
DTSTART;TZID=Europe/Berlin:20260606T180000
DTEND;TZID=Europe/Berlin:20260606T180000
DTSTAMP:20260425T135949
CREATED:20260324T104027Z
LAST-MODIFIED:20260324T104129Z
UID:7551-1780768800-1780768800@www.bodenkirchen.de
SUMMARY:Jahreshauptversammlung m. anschl. Grillfest KSK Bonbruck
DESCRIPTION:
URL:https://www.bodenkirchen.de/termin/jahreshauptversammlung-ksk-bonbruck-5/
END:VEVENT
BEGIN:VEVENT
DTSTART;TZID=Europe/Berlin:20260606T193000
DTEND;TZID=Europe/Berlin:20260606T193000
DTSTAMP:20260425T135949
CREATED:20260407T085332Z
LAST-MODIFIED:20260407T085332Z
UID:7569-1780774200-1780774200@www.bodenkirchen.de
SUMMARY:Grillfest KSK Bonbruck
DESCRIPTION:
URL:https://www.bodenkirchen.de/termin/grillfest-ksk-bonbruck-5/
END:VEVENT
BEGIN:VEVENT
DTSTART;TZID=Europe/Berlin:20260607T110000
DTEND;TZID=Europe/Berlin:20260607T110000
DTSTAMP:20260425T135949
CREATED:20260407T085438Z
LAST-MODIFIED:20260407T085438Z
UID:7571-1780830000-1780830000@www.bodenkirchen.de
SUMMARY:Pfarrfest Pfarrei
DESCRIPTION:Pfarrhof Bodenkirchen
URL:https://www.bodenkirchen.de/termin/pfarrfest-pfarrei/
END:VEVENT
BEGIN:VEVENT
DTSTART;TZID=Europe/Berlin:20260611T180000
DTEND;TZID=Europe/Berlin:20260611T180000
DTSTAMP:20260425T135949
CREATED:20260217T093547Z
LAST-MODIFIED:20260217T093547Z
UID:7366-1781200800-1781200800@www.bodenkirchen.de
SUMMARY:Kabarett-Abend Volksfest Bodenkirchen GbR
DESCRIPTION:
URL:https://www.bodenkirchen.de/termin/kabarett-abend-volksfest-bodenkirchen-gbr/
END:VEVENT
BEGIN:VEVENT
DTSTART;TZID=Europe/Berlin:20260612T173000
DTEND;TZID=Europe/Berlin:20260612T173000
DTSTAMP:20260425T135949
CREATED:20260217T093952Z
LAST-MODIFIED:20260217T093952Z
UID:7368-1781285400-1781285400@www.bodenkirchen.de
SUMMARY:Auszug / Tag der Betriebe Volksfest Bodenkirchen GbR
DESCRIPTION:
URL:https://www.bodenkirchen.de/termin/auszug-tag-der-betriebe-volksfest-bodenkirchen-gbr/
END:VEVENT
BEGIN:VEVENT
DTSTART;TZID=Europe/Berlin:20260613T083000
DTEND;TZID=Europe/Berlin:20260613T083000
DTSTAMP:20260425T135949
CREATED:20260407T094057Z
LAST-MODIFIED:20260407T094057Z
UID:7596-1781339400-1781339400@www.bodenkirchen.de
SUMMARY:Großgemeindeturnier OFV Aich\, Abt. Stockschützen
DESCRIPTION:
URL:https://www.bodenkirchen.de/termin/grossgemeindeturnier-ofv-aich-abt-stockschuetzen/
END:VEVENT
BEGIN:VEVENT
DTSTART;TZID=Europe/Berlin:20260613T140000
DTEND;TZID=Europe/Berlin:20260613T140000
DTSTAMP:20260425T135949
CREATED:20260217T094118Z
LAST-MODIFIED:20260217T094118Z
UID:7370-1781359200-1781359200@www.bodenkirchen.de
SUMMARY:Schafkopf-Turnier & Tag der Jugend Volksfest Bodenkirchen GbR
DESCRIPTION:
URL:https://www.bodenkirchen.de/termin/schafkopf-turnier-tag-der-jugend-volksfest-bodenkirchen-gbr/
END:VEVENT
BEGIN:VEVENT
DTSTART;TZID=Europe/Berlin:20260614T100000
DTEND;TZID=Europe/Berlin:20260614T100000
DTSTAMP:20260425T135949
CREATED:20260217T094208Z
LAST-MODIFIED:20260217T094208Z
UID:7372-1781431200-1781431200@www.bodenkirchen.de
SUMMARY:Oldtimertreffen Volksfest Bodenkirchen GbR
DESCRIPTION:
URL:https://www.bodenkirchen.de/termin/oldtimertreffen-volksfest-bodenkirchen-gbr/
END:VEVENT
BEGIN:VEVENT
DTSTART;TZID=Europe/Berlin:20260614T170000
DTEND;TZID=Europe/Berlin:20260614T170000
DTSTAMP:20260425T135949
CREATED:20260217T094315Z
LAST-MODIFIED:20260217T094315Z
UID:7374-1781456400-1781456400@www.bodenkirchen.de
SUMMARY:Tag der Vereine Volksfest Bodenkirchen GbR
DESCRIPTION:
URL:https://www.bodenkirchen.de/termin/tag-der-vereine-volksfest-bodenkirchen-gbr/
END:VEVENT
BEGIN:VEVENT
DTSTART;TZID=Europe/Berlin:20260615T180000
DTEND;TZID=Europe/Berlin:20260615T180000
DTSTAMP:20260425T135949
CREATED:20260217T094413Z
LAST-MODIFIED:20260217T094413Z
UID:7376-1781546400-1781546400@www.bodenkirchen.de
SUMMARY:Tag der guten Nachbarschaft Volksfest Bodenkirchen GbR
DESCRIPTION:
URL:https://www.bodenkirchen.de/termin/tag-der-guten-nachbarschaft-volksfest-bodenkirchen-gbr/
END:VEVENT
BEGIN:VEVENT
DTSTART;TZID=Europe/Berlin:20260620T190000
DTEND;TZID=Europe/Berlin:20260620T190000
DTSTAMP:20260425T135949
CREATED:20260407T085648Z
LAST-MODIFIED:20260407T085648Z
UID:7573-1781982000-1781982000@www.bodenkirchen.de
SUMMARY:Sonnwendfeuer KLJB Bonbruck
DESCRIPTION:
URL:https://www.bodenkirchen.de/termin/sonnwendfeuer-kljb-bonbruck-4/
END:VEVENT
BEGIN:VEVENT
DTSTART;TZID=Europe/Berlin:20260628T110000
DTEND;TZID=Europe/Berlin:20260628T110000
DTSTAMP:20260425T135949
CREATED:20260217T094558Z
LAST-MODIFIED:20260217T094558Z
UID:7378-1782644400-1782644400@www.bodenkirchen.de
SUMMARY:Sommerfest Almenrauschschützen Margarethen
DESCRIPTION:
URL:https://www.bodenkirchen.de/termin/sommerfest-almenrauschschuetzen-margarethen/
END:VEVENT
BEGIN:VEVENT
DTSTART;TZID=Europe/Berlin:20260705T110000
DTEND;TZID=Europe/Berlin:20260705T110000
DTSTAMP:20260425T135949
CREATED:20260407T085906Z
LAST-MODIFIED:20260407T085906Z
UID:7575-1783249200-1783249200@www.bodenkirchen.de
SUMMARY:Spielplatzfest Dorfverschönerungsverein Bonbruck
DESCRIPTION:
URL:https://www.bodenkirchen.de/termin/spielplatzfest-dorfverschoenerungsverein-bonbruck-3/
END:VEVENT
BEGIN:VEVENT
DTSTART;VALUE=DATE:20260710
DTEND;VALUE=DATE:20260713
DTSTAMP:20260425T135949
CREATED:20260407T090205Z
LAST-MODIFIED:20260407T090205Z
UID:7577-1783641600-1783900799@www.bodenkirchen.de
SUMMARY:Fußballpokal Turnier SV Bonbruck
DESCRIPTION:
URL:https://www.bodenkirchen.de/termin/fussballpokal-turnier-sv-bonbruck/
END:VEVENT
BEGIN:VEVENT
DTSTART;TZID=Europe/Berlin:20260712T083000
DTEND;TZID=Europe/Berlin:20260712T083000
DTSTAMP:20260425T135949
CREATED:20260407T094831Z
LAST-MODIFIED:20260407T094831Z
UID:7600-1783845000-1783845000@www.bodenkirchen.de
SUMMARY:Dorffest Turnier OFV Aich\, Abt. Stockschützen
DESCRIPTION:
URL:https://www.bodenkirchen.de/termin/dorffest-turnier-ofv-aich-abt-stockschuetzen-5/
END:VEVENT
BEGIN:VEVENT
DTSTART;TZID=Europe/Berlin:20260712T110000
DTEND;TZID=Europe/Berlin:20260712T110000
DTSTAMP:20260425T135949
CREATED:20260407T094539Z
LAST-MODIFIED:20260407T094539Z
UID:7598-1783854000-1783854000@www.bodenkirchen.de
SUMMARY:Dorffest OFV Aich
DESCRIPTION:
URL:https://www.bodenkirchen.de/termin/dorffest-ofv-aich-4/
END:VEVENT
BEGIN:VEVENT
DTSTART;TZID=Europe/Berlin:20260712T140000
DTEND;TZID=Europe/Berlin:20260712T140000
DTSTAMP:20260425T135949
CREATED:20260407T095817Z
LAST-MODIFIED:20260407T095817Z
UID:7602-1783864800-1783864800@www.bodenkirchen.de
SUMMARY:Dorffest Turnier OFV Aich\, Abt. Stockschützen
DESCRIPTION:
URL:https://www.bodenkirchen.de/termin/dorffest-turnier-ofv-aich-abt-stockschuetzen-6/
END:VEVENT
BEGIN:VEVENT
DTSTART;TZID=Europe/Berlin:20260726T110000
DTEND;TZID=Europe/Berlin:20260726T110000
DTSTAMP:20260425T135949
CREATED:20260407T090822Z
LAST-MODIFIED:20260407T090822Z
UID:7583-1785063600-1785063600@www.bodenkirchen.de
SUMMARY:Grillfest FFW Bonbruck
DESCRIPTION:
URL:https://www.bodenkirchen.de/termin/grillfest-ffw-bonbruck-4/
END:VEVENT
BEGIN:VEVENT
DTSTART;TZID=Europe/Berlin:20260731T193000
DTEND;TZID=Europe/Berlin:20260731T193000
DTSTAMP:20260425T135949
CREATED:20260407T090558Z
LAST-MODIFIED:20260407T090558Z
UID:7581-1785526200-1785526200@www.bodenkirchen.de
SUMMARY:Bierprobe SV Bonbruck
DESCRIPTION:
URL:https://www.bodenkirchen.de/termin/bierprobe-sv-bonbruck-5/
END:VEVENT
BEGIN:VEVENT
DTSTART;TZID=Europe/Berlin:20260801T173000
DTEND;TZID=Europe/Berlin:20260802T000000
DTSTAMP:20260425T135949
CREATED:20260407T091041Z
LAST-MODIFIED:20260407T091041Z
UID:7585-1785605400-1785628800@www.bodenkirchen.de
SUMMARY:Beachparty Stammtisch Bonbruck
DESCRIPTION:
URL:https://www.bodenkirchen.de/termin/beachparty-stammtisch-bonbruck-2/
END:VEVENT
BEGIN:VEVENT
DTSTART;TZID=Europe/Berlin:20260815T110000
DTEND;TZID=Europe/Berlin:20260815T110000
DTSTAMP:20260425T135949
CREATED:20260324T093714Z
LAST-MODIFIED:20260324T093714Z
UID:7534-1786791600-1786791600@www.bodenkirchen.de
SUMMARY:Sommerfest Stopselclub Bodenkirchen
DESCRIPTION:
URL:https://www.bodenkirchen.de/termin/sommerfest-stopselclub-bodenkirchen-3/
END:VEVENT
BEGIN:VEVENT
DTSTART;TZID=Europe/Berlin:20260815T130000
DTEND;TZID=Europe/Berlin:20260815T130000
DTSTAMP:20260425T135949
CREATED:20260407T091350Z
LAST-MODIFIED:20260407T091350Z
UID:7588-1786798800-1786798800@www.bodenkirchen.de
SUMMARY:Radltour Stammtisch Bonbruck
DESCRIPTION:
URL:https://www.bodenkirchen.de/termin/radltour-stammtisch-bonbruck/
END:VEVENT
BEGIN:VEVENT
DTSTART;VALUE=DATE:20260820
DTEND;VALUE=DATE:20260825
DTSTAMP:20260425T135949
CREATED:20260407T091511Z
LAST-MODIFIED:20260407T091511Z
UID:7590-1787184000-1787615999@www.bodenkirchen.de
SUMMARY:Volksfest Bonbruck
DESCRIPTION:
URL:https://www.bodenkirchen.de/termin/volksfest-bonbruck-5/
END:VEVENT
BEGIN:VEVENT
DTSTART;TZID=Europe/Berlin:20260918T190000
DTEND;TZID=Europe/Berlin:20260918T190000
DTSTAMP:20260425T135949
CREATED:20260407T091710Z
LAST-MODIFIED:20260407T091710Z
UID:7592-1789758000-1789758000@www.bodenkirchen.de
SUMMARY:Saisonstart Reibschützen Bonbruck
DESCRIPTION:
URL:https://www.bodenkirchen.de/termin/saisonstart-reibschuetzen-bonbruck-2/
END:VEVENT
BEGIN:VEVENT
DTSTART;TZID=Europe/Berlin:20260920T110000
DTEND;TZID=Europe/Berlin:20260920T110000
DTSTAMP:20260425T135949
CREATED:20260324T093855Z
LAST-MODIFIED:20260324T093855Z
UID:7536-1789902000-1789902000@www.bodenkirchen.de
SUMMARY:Dorffest Gartenbauverein Bodenkirchen
DESCRIPTION:
URL:https://www.bodenkirchen.de/termin/dorffest-gartenbauverein-bodenkirchen-2/
END:VEVENT
END:VCALENDAR