BEGIN:VCALENDAR
VERSION:2.0
PRODID:-//Gemeinde Bodenkirchen - ECPv6.15.20//NONSGML v1.0//EN
CALSCALE:GREGORIAN
METHOD:PUBLISH
X-ORIGINAL-URL:https://www.bodenkirchen.de
X-WR-CALDESC:Veranstaltungen für Gemeinde Bodenkirchen
REFRESH-INTERVAL;VALUE=DURATION:PT1H
X-Robots-Tag:noindex
X-PUBLISHED-TTL:PT1H
BEGIN:VTIMEZONE
TZID:Europe/Berlin
BEGIN:DAYLIGHT
TZOFFSETFROM:+0100
TZOFFSETTO:+0200
TZNAME:CEST
DTSTART:20250330T010000
END:DAYLIGHT
BEGIN:STANDARD
TZOFFSETFROM:+0200
TZOFFSETTO:+0100
TZNAME:CET
DTSTART:20251026T010000
END:STANDARD
BEGIN:DAYLIGHT
TZOFFSETFROM:+0100
TZOFFSETTO:+0200
TZNAME:CEST
DTSTART:20260329T010000
END:DAYLIGHT
BEGIN:STANDARD
TZOFFSETFROM:+0200
TZOFFSETTO:+0100
TZNAME:CET
DTSTART:20261025T010000
END:STANDARD
BEGIN:DAYLIGHT
TZOFFSETFROM:+0100
TZOFFSETTO:+0200
TZNAME:CEST
DTSTART:20270328T010000
END:DAYLIGHT
BEGIN:STANDARD
TZOFFSETFROM:+0200
TZOFFSETTO:+0100
TZNAME:CET
DTSTART:20271031T010000
END:STANDARD
END:VTIMEZONE
BEGIN:VEVENT
DTSTART;TZID=Europe/Berlin:20260403T100000
DTEND;TZID=Europe/Berlin:20260403T100000
DTSTAMP:20260421T144818
CREATED:20250930T070927Z
LAST-MODIFIED:20250930T070933Z
UID:6816-1775210400-1775210400@www.bodenkirchen.de
SUMMARY:Steckerlfischgrillen SC Bodenkirchen
DESCRIPTION:
URL:https://www.bodenkirchen.de/termin/steckerlfischgrillen-sc-bodenkirchen-2/
END:VEVENT
BEGIN:VEVENT
DTSTART;TZID=Europe/Berlin:20260403T110000
DTEND;TZID=Europe/Berlin:20260403T110000
DTSTAMP:20260421T144818
CREATED:20260127T085806Z
LAST-MODIFIED:20260127T085806Z
UID:7265-1775214000-1775214000@www.bodenkirchen.de
SUMMARY:Karfreitag Fischgrillen Bahnbergschützen Hilling
DESCRIPTION:
URL:https://www.bodenkirchen.de/termin/karfreitag-fischgrillen-bahnbergschuetzen-hilling/
END:VEVENT
END:VCALENDAR