BEGIN:VCALENDAR
VERSION:2.0
PRODID:-//Gemeinde Bodenkirchen - ECPv6.15.20//NONSGML v1.0//EN
CALSCALE:GREGORIAN
METHOD:PUBLISH
X-ORIGINAL-URL:https://www.bodenkirchen.de
X-WR-CALDESC:Veranstaltungen für Gemeinde Bodenkirchen
REFRESH-INTERVAL;VALUE=DURATION:PT1H
X-Robots-Tag:noindex
X-PUBLISHED-TTL:PT1H
BEGIN:VTIMEZONE
TZID:Europe/Berlin
BEGIN:DAYLIGHT
TZOFFSETFROM:+0100
TZOFFSETTO:+0200
TZNAME:CEST
DTSTART:20250330T010000
END:DAYLIGHT
BEGIN:STANDARD
TZOFFSETFROM:+0200
TZOFFSETTO:+0100
TZNAME:CET
DTSTART:20251026T010000
END:STANDARD
BEGIN:DAYLIGHT
TZOFFSETFROM:+0100
TZOFFSETTO:+0200
TZNAME:CEST
DTSTART:20260329T010000
END:DAYLIGHT
BEGIN:STANDARD
TZOFFSETFROM:+0200
TZOFFSETTO:+0100
TZNAME:CET
DTSTART:20261025T010000
END:STANDARD
BEGIN:DAYLIGHT
TZOFFSETFROM:+0100
TZOFFSETTO:+0200
TZNAME:CEST
DTSTART:20270328T010000
END:DAYLIGHT
BEGIN:STANDARD
TZOFFSETFROM:+0200
TZOFFSETTO:+0100
TZNAME:CET
DTSTART:20271031T010000
END:STANDARD
END:VTIMEZONE
BEGIN:VEVENT
DTSTART;VALUE=DATE:20260314
DTEND;VALUE=DATE:20260315
DTSTAMP:20260423T105711
CREATED:20260120T091824Z
LAST-MODIFIED:20260120T091824Z
UID:7228-1773446400-1773532799@www.bodenkirchen.de
SUMMARY:Monatsstammtisch Stopselclub Binabiburg
DESCRIPTION:
URL:https://www.bodenkirchen.de/termin/monatsstammtisch-stopselclub-binabiburg-3/
END:VEVENT
BEGIN:VEVENT
DTSTART;TZID=Europe/Berlin:20260314T183000
DTEND;TZID=Europe/Berlin:20260314T183000
DTSTAMP:20260423T105711
CREATED:20260127T092739Z
LAST-MODIFIED:20260127T092739Z
UID:7275-1773513000-1773513000@www.bodenkirchen.de
SUMMARY:Starkbierfest SV Bonbruck
DESCRIPTION:
URL:https://www.bodenkirchen.de/termin/starkbierfest-sv-bonbruck-3/
END:VEVENT
BEGIN:VEVENT
DTSTART;TZID=Europe/Berlin:20260314T190000
DTEND;TZID=Europe/Berlin:20260314T190000
DTSTAMP:20260423T105711
CREATED:20260127T085338Z
LAST-MODIFIED:20260127T085338Z
UID:7257-1773514800-1773514800@www.bodenkirchen.de
SUMMARY:Generalversammlung OFV Aich
DESCRIPTION:
URL:https://www.bodenkirchen.de/termin/generalversammlung-ofv-aich/
END:VEVENT
BEGIN:VEVENT
DTSTART;TZID=Europe/Berlin:20260314T200000
DTEND;TZID=Europe/Berlin:20260314T200000
DTSTAMP:20260423T105711
CREATED:20260224T094842Z
LAST-MODIFIED:20260224T094842Z
UID:7389-1773518400-1773518400@www.bodenkirchen.de
SUMMARY:Jahreshauptversammlung FFW Treidlkofen
DESCRIPTION:Gasthaus Zens
URL:https://www.bodenkirchen.de/termin/jahreshauptversammlung-ffw-treidlkofen-2/
END:VEVENT
END:VCALENDAR