BEGIN:VCALENDAR
VERSION:2.0
PRODID:-//Gemeinde Bodenkirchen - ECPv6.15.20//NONSGML v1.0//EN
CALSCALE:GREGORIAN
METHOD:PUBLISH
X-ORIGINAL-URL:https://www.bodenkirchen.de
X-WR-CALDESC:Veranstaltungen für Gemeinde Bodenkirchen
REFRESH-INTERVAL;VALUE=DURATION:PT1H
X-Robots-Tag:noindex
X-PUBLISHED-TTL:PT1H
BEGIN:VTIMEZONE
TZID:Europe/Berlin
BEGIN:DAYLIGHT
TZOFFSETFROM:+0100
TZOFFSETTO:+0200
TZNAME:CEST
DTSTART:20250330T010000
END:DAYLIGHT
BEGIN:STANDARD
TZOFFSETFROM:+0200
TZOFFSETTO:+0100
TZNAME:CET
DTSTART:20251026T010000
END:STANDARD
BEGIN:DAYLIGHT
TZOFFSETFROM:+0100
TZOFFSETTO:+0200
TZNAME:CEST
DTSTART:20260329T010000
END:DAYLIGHT
BEGIN:STANDARD
TZOFFSETFROM:+0200
TZOFFSETTO:+0100
TZNAME:CET
DTSTART:20261025T010000
END:STANDARD
BEGIN:DAYLIGHT
TZOFFSETFROM:+0100
TZOFFSETTO:+0200
TZNAME:CEST
DTSTART:20270328T010000
END:DAYLIGHT
BEGIN:STANDARD
TZOFFSETFROM:+0200
TZOFFSETTO:+0100
TZNAME:CET
DTSTART:20271031T010000
END:STANDARD
END:VTIMEZONE
BEGIN:VEVENT
DTSTART;VALUE=DATE:20260218
DTEND;VALUE=DATE:20260219
DTSTAMP:20260425T142259
CREATED:20260127T091650Z
LAST-MODIFIED:20260127T091650Z
UID:7267-1771372800-1771459199@www.bodenkirchen.de
SUMMARY:Fischgrillen Stammtisch Bonbruck
DESCRIPTION:
URL:https://www.bodenkirchen.de/termin/fischgrillen-stammtisch-bonbruck-3/
END:VEVENT
BEGIN:VEVENT
DTSTART;TZID=Europe/Berlin:20260218T170000
DTEND;TZID=Europe/Berlin:20260218T170000
DTSTAMP:20260425T142259
CREATED:20260127T093655Z
LAST-MODIFIED:20260127T093655Z
UID:7283-1771434000-1771434000@www.bodenkirchen.de
SUMMARY:Aschermittwochs-Fisch-Partie Sportclub Bodenkirchen
DESCRIPTION:
URL:https://www.bodenkirchen.de/termin/aschermittwochs-fisch-partie-sportclub-bodenkirchen/
END:VEVENT
END:VCALENDAR